BEGIN:VCALENDAR
VERSION:2.0
PRODID:-//SV Meesterlijk - ECPv6.15.15//NONSGML v1.0//EN
CALSCALE:GREGORIAN
METHOD:PUBLISH
X-ORIGINAL-URL:https://svmeesterlijk.nl
X-WR-CALDESC:Evenementen voor SV Meesterlijk
REFRESH-INTERVAL;VALUE=DURATION:PT1H
X-Robots-Tag:noindex
X-PUBLISHED-TTL:PT1H
BEGIN:VTIMEZONE
TZID:UTC
BEGIN:STANDARD
TZOFFSETFROM:+0000
TZOFFSETTO:+0000
TZNAME:UTC
DTSTART:20240101T000000
END:STANDARD
END:VTIMEZONE
BEGIN:VEVENT
DTSTART;VALUE=DATE:20250529
DTEND;VALUE=DATE:20250602
DTSTAMP:20260422T124738
CREATED:20241023T142838Z
LAST-MODIFIED:20250326T130818Z
UID:5289-1748476800-1748822399@svmeesterlijk.nl
SUMMARY:🏛🇬🇷 LUSTRUMREIS ATHENE 🏛🇬🇷
DESCRIPTION:🏛🇬🇷 LUSTRUMREIS ATHENE 🏛🇬🇷 \nSta jij te springen om mee te gaan op reis?😍 Zie jij jezelf al in het mooie Griekenland flaneren?😋 Dan hebben wij goed nieuws!🥳 \n📅 Donderdag 29 mei t/m zondag 1 juni\n💵 €450\,- (Eerste betaling bij aanmelding\, tweede termijn 24 maart!) \n⚠️Let op! Deze reis is alleen voor 18+ en zorg dat je een reisverzekering hebt⚠️ \nYamas\,\nMeesterlijk🧡 \n*Wat zit er bij de prijs inbegrepen?\n– Vliegticket\n– ⁠Transfer\n– ⁠Hostel\n– ⁠Activiteiten
URL:https://svmeesterlijk.nl/evenement/lustrumreis/
LOCATION:Privé: Athene\, Greece
END:VEVENT
END:VCALENDAR