BEGIN:VCALENDAR
VERSION:2.0
PRODID:-//SV Meesterlijk - ECPv6.15.15//NONSGML v1.0//EN
CALSCALE:GREGORIAN
METHOD:PUBLISH
X-ORIGINAL-URL:https://svmeesterlijk.nl
X-WR-CALDESC:Evenementen voor SV Meesterlijk
REFRESH-INTERVAL;VALUE=DURATION:PT1H
X-Robots-Tag:noindex
X-PUBLISHED-TTL:PT1H
BEGIN:VTIMEZONE
TZID:UTC
BEGIN:STANDARD
TZOFFSETFROM:+0000
TZOFFSETTO:+0000
TZNAME:UTC
DTSTART:20240101T000000
END:STANDARD
END:VTIMEZONE
BEGIN:VEVENT
DTSTART;TZID=UTC:20250109T210000
DTEND;TZID=UTC:20250109T235900
DTSTAMP:20260421T184155
CREATED:20241023T134854Z
LAST-MODIFIED:20241228T090857Z
UID:5244-1736456400-1736467140@svmeesterlijk.nl
SUMMARY:💃👩‍👩‍👧‍👧FAMILIE FIËSTA👩‍👩‍👧‍👧💃
DESCRIPTION:💃👩‍👩‍👧‍👧 FAMILIE FIËSTA👩‍👩‍👧‍👧💃 \nHeb jij altijd al eens je broer\, zus\, lievelings nichtje of een ander familielid mee willen nemen naar een borrel?🤩 Wil jij eindelijk kunnen laten zien met wie jij altijd in de stad uitspookt\, dan is dit je kans!💃\nNeem je broer / zus / familielid mee naar onze Familie Fiësta borrel en dans samen met ons de nacht in.🌃 \n📅 Donderdag 9 januari\n📍 Tappers\, Nijmegen\n🕘 Vanaf 21:00 uur \nTrek je mooiste outfit in de kleuren van ons mooie NEC aan❤️💚🖤\nZien we jullie in Tappers samen met je favoriete familielid?👩‍👩‍👧‍👧 \nLiefs\,\nMeesterlijk🧡
URL:https://svmeesterlijk.nl/evenement/familie-fiesta-borrel/
LOCATION:Tappers
END:VEVENT
END:VCALENDAR