BEGIN:VCALENDAR
VERSION:2.0
PRODID:-//SV Meesterlijk - ECPv6.15.15//NONSGML v1.0//EN
CALSCALE:GREGORIAN
METHOD:PUBLISH
X-WR-CALNAME:SV Meesterlijk
X-ORIGINAL-URL:https://svmeesterlijk.nl
X-WR-CALDESC:Evenementen voor SV Meesterlijk
REFRESH-INTERVAL;VALUE=DURATION:PT1H
X-Robots-Tag:noindex
X-PUBLISHED-TTL:PT1H
BEGIN:VTIMEZONE
TZID:UTC
BEGIN:STANDARD
TZOFFSETFROM:+0000
TZOFFSETTO:+0000
TZNAME:UTC
DTSTART:20230101T000000
END:STANDARD
END:VTIMEZONE
BEGIN:VEVENT
DTSTART;VALUE=DATE:20241216
DTEND;VALUE=DATE:20241220
DTSTAMP:20260421T141127
CREATED:20241023T134116Z
LAST-MODIFIED:20241023T134116Z
UID:5240-1734307200-1734652799@svmeesterlijk.nl
SUMMARY:Serious Lockdown
DESCRIPTION:Minstens twee weken voorafgaand aan dit evenement verschijnen hier alle details. Let op de geplande data is onder voorbehoud\, mochten er data wijzigen zullen wij de kalender z.s.m. updaten. Houd de maandplanning op de Instagram in de gaten voor de meest actuele data.
URL:https://svmeesterlijk.nl/evenement/serious-lockdown/
LOCATION:Tappers
END:VEVENT
BEGIN:VEVENT
DTSTART;VALUE=DATE:20241219
DTEND;VALUE=DATE:20241220
DTSTAMP:20260421T141127
CREATED:20241023T134241Z
LAST-MODIFIED:20241209T175138Z
UID:5242-1734566400-1734652799@svmeesterlijk.nl
SUMMARY:🍻🍷KERSTPROEVERIJ🍷🍻
DESCRIPTION:🍻🍷KERSTPROEVERIJ🍷🍻 \nBen jij klaar om het glas te heffen op een sfeervolle kerst?🎄 Proost jij samen met ons op een Meesterlijk jaar?🥂 Kom dan op 19 december naar de Kerstproeverij bij Brouwerij de Hemel!🫵🏼 \n📅 Donderdag 19 december\n📍 Brouwerij de Hemel\, Franseplaats 1\, 6511 VS Nijmegen\n🕘 Inloop 20:45u\, start 21:00u\n💵 Leden €10\, Niet leden €15 \nDresscode: ✨Kerstchique✨ \nKies jouw favoriet: een zorgvuldig samengestelde bierproeverij of een wijnproeverij!🤔 Meld je snel aan via de site!👇 \nZien wij jullie daar?😄 \nLiefs\,\nMeesterlijk🧡
URL:https://svmeesterlijk.nl/evenement/kerstactiviteit-borrel/
LOCATION:De Hemel\, Franseplaats 1\, Nijmegen\, Gelderland\, Nederland
END:VEVENT
END:VCALENDAR