BEGIN:VCALENDAR
VERSION:2.0
PRODID:-//SV Meesterlijk - ECPv6.15.15//NONSGML v1.0//EN
CALSCALE:GREGORIAN
METHOD:PUBLISH
X-ORIGINAL-URL:https://svmeesterlijk.nl
X-WR-CALDESC:Evenementen voor SV Meesterlijk
REFRESH-INTERVAL;VALUE=DURATION:PT1H
X-Robots-Tag:noindex
X-PUBLISHED-TTL:PT1H
BEGIN:VTIMEZONE
TZID:UTC
BEGIN:STANDARD
TZOFFSETFROM:+0000
TZOFFSETTO:+0000
TZNAME:UTC
DTSTART:20230101T000000
END:STANDARD
END:VTIMEZONE
BEGIN:VEVENT
DTSTART;TZID=UTC:20240926T203000
DTEND;TZID=UTC:20240926T220000
DTSTAMP:20260423T092827
CREATED:20240916T134110Z
LAST-MODIFIED:20240916T134110Z
UID:5103-1727382600-1727388000@svmeesterlijk.nl
SUMMARY:🍻🖍 PRE-BORREL MARKER MANIA 🖍🍻
DESCRIPTION:🍻🖍 PRE-BORREL MARKER MANIA 🖍🍻 \nKan de gezelligheid jou niet vroeg genoeg beginnen?🎊 Dan hebben wij LEUK nieuws!🤩 De Meesterlijke Marker Mania borrel zal worden ingeluid met een heuse pre-borrel op het terras van Brasserie Jan!🪩 \n📅 Donderdag 26 september\n📍 Brasserie Jan\, Grote Markt 32\, 6511 KB Nijmegen\n🕣 20:30 – 22:00 uur \nVanuit daar zullen wij om 22:00 uur verhuizen naar onze geliefde stamkroeg Tappers om daar het feest door te zetten!🥳 \nMeld je snel aan via onderstaande link voor de pre-borrel!👇 \nZien wij jullie daar?😄 \nLiefs\,\nMeesterlijk🧡
URL:https://svmeesterlijk.nl/evenement/%f0%9f%8d%bb%f0%9f%96%8d-pre-borrel-marker-mania-%f0%9f%96%8d%f0%9f%8d%bb/
LOCATION:Brasserie Jan\, Grote Markt 32\, Nijmegen\, Gelderland\, 6511 KB\, Nederland
END:VEVENT
BEGIN:VEVENT
DTSTART;TZID=UTC:20240926T220000
DTEND;TZID=UTC:20240926T235900
DTSTAMP:20260423T092827
CREATED:20240916T124801Z
LAST-MODIFIED:20240916T124801Z
UID:5101-1727388000-1727395140@svmeesterlijk.nl
SUMMARY:🖍🪩MEESTERLIJKE MARKER MANIA🪩🖍
DESCRIPTION:🖍🪩MEESTERLIJKE MARKER MANIA🪩🖍 \nHeb jij zin een kleurrijke avond?🌈 En ben jij niet bang om vies te worden?🎨 Kom dan op 26 september naar de Meesterlijke Marker Mania borrel in Tappers!🫵🏼 \n📅 Donderdag 26 september\n📍 Tappers\, van Welderenstraat 128\, 6511 MV Nijmegen\n🕘 22:00 uur \nTrek een wit t-shirt aan\, stiften in de aanslag en klieder iedereen onder tijdens de eerste borrel van dit schooljaar!🤩 \nZien wij jullie dan?🐝 \nLiefs\,\nMeesterlijk
URL:https://svmeesterlijk.nl/evenement/%f0%9f%96%8d%f0%9f%aa%a9meesterlijke-marker-mania%f0%9f%aa%a9%f0%9f%96%8d/
LOCATION:Tappers
END:VEVENT
END:VCALENDAR