BEGIN:VCALENDAR
VERSION:2.0
PRODID:-//SV Meesterlijk - ECPv6.15.15//NONSGML v1.0//EN
CALSCALE:GREGORIAN
METHOD:PUBLISH
X-ORIGINAL-URL:https://svmeesterlijk.nl
X-WR-CALDESC:Evenementen voor SV Meesterlijk
REFRESH-INTERVAL;VALUE=DURATION:PT1H
X-Robots-Tag:noindex
X-PUBLISHED-TTL:PT1H
BEGIN:VTIMEZONE
TZID:UTC
BEGIN:STANDARD
TZOFFSETFROM:+0000
TZOFFSETTO:+0000
TZNAME:UTC
DTSTART:20230101T000000
END:STANDARD
END:VTIMEZONE
BEGIN:VEVENT
DTSTART;TZID=UTC:20240919T190000
DTEND;TZID=UTC:20240919T200000
DTSTAMP:20260421T154659
CREATED:20240905T092512Z
LAST-MODIFIED:20240916T124231Z
UID:5010-1726772400-1726776000@svmeesterlijk.nl
SUMMARY:🤩🏆BOULES EN BUDDY’S🏆🤩
DESCRIPTION:🤩🏆BOULES EN BUDDY’S🏆🤩 \nBen jij klaar om je vrienden te verslaan in een spannend potje jeu de boules?⭐ Heb jij zin in wat competitie\, maar vooral een hoop gezelligheid?🥇Kom op donderdag 19 september met ons mee jeu de boulen bij BoulesBitesBar! We verzamelen vanaf 18:45u\, om 19:00u zullen we de eerste ballen laten rollen!🏁 \n📅 Donderdag 19 september\n📍 BoulesBitesBar\, Oranjesingel 42\, 6511 NW Nijmegen\n🕢 18:45u inloop\, 19:00u start\n💵 Leden GRATIS\, niet leden €2\,50 \nMeld je snel aan via de site!\n‼VOL = VOL‼ \nZien wij jullie dan?🐝 \nLiefs\,\nMeesterlijk🧡
URL:https://svmeesterlijk.nl/evenement/%f0%9f%a4%a9%f0%9f%8f%86boules-en-buddys%f0%9f%8f%86%f0%9f%a4%a9/
LOCATION:BoulesBitesBar
END:VEVENT
END:VCALENDAR