BEGIN:VCALENDAR
VERSION:2.0
PRODID:-//SV Meesterlijk - ECPv6.15.15//NONSGML v1.0//EN
CALSCALE:GREGORIAN
METHOD:PUBLISH
X-ORIGINAL-URL:https://svmeesterlijk.nl
X-WR-CALDESC:Evenementen voor SV Meesterlijk
REFRESH-INTERVAL;VALUE=DURATION:PT1H
X-Robots-Tag:noindex
X-PUBLISHED-TTL:PT1H
BEGIN:VTIMEZONE
TZID:UTC
BEGIN:STANDARD
TZOFFSETFROM:+0000
TZOFFSETTO:+0000
TZNAME:UTC
DTSTART:20230101T000000
END:STANDARD
END:VTIMEZONE
BEGIN:VEVENT
DTSTART;TZID=UTC:20240913T140000
DTEND;TZID=UTC:20240913T170000
DTSTAMP:20260421T154655
CREATED:20240821T193346Z
LAST-MODIFIED:20240821T193616Z
UID:4997-1726236000-1726246800@svmeesterlijk.nl
SUMMARY:🤝🏼🎓CONGRES INCLUSIEF ONDERWIJS🎓🤝🏼
DESCRIPTION:🤝🏼🎓CONGRES INCLUSIEF ONDERWIJS🎓🤝🏼 \nBen jij benieuwd naar de impact van inclusief onderwijs op de samenleving?🏫 En wil jij weten hoe jij als leerkracht/pedagoog kunt bijdragen aan een inclusieve leeromgeving.🌎 Kom dan op vrijdag 13 september naar het congres over inclusief onderwijs!🫵🏼 \n📅 Vrijdag 13 september\n📍 Radboud Universiteit\n🕑 14:00u – 17:00u\n💵 Leden Gratis\, Niet leden €1 \nKijk jij uit naar een middag vol inspirerende lezingen en activerende workshop die je niet wilt missen?🧑‍🏫 Meld je dan nu aan via de site!👇 \nWe sluiten het congres af met een afsluitende borrel in het cultuur café.🥂 \nZien wij jullie daar?🤩 \nLiefs\,\nMeesterlijk🧡 en Postelein💜
URL:https://svmeesterlijk.nl/evenement/%f0%9f%a4%9d%f0%9f%8f%bc%f0%9f%8e%93congres-inclusief-onderwijs%f0%9f%8e%93%f0%9f%a4%9d%f0%9f%8f%bc/
END:VEVENT
END:VCALENDAR