BEGIN:VCALENDAR
VERSION:2.0
PRODID:-//SV Meesterlijk - ECPv6.15.15//NONSGML v1.0//EN
CALSCALE:GREGORIAN
METHOD:PUBLISH
X-WR-CALNAME:SV Meesterlijk
X-ORIGINAL-URL:https://svmeesterlijk.nl
X-WR-CALDESC:Evenementen voor SV Meesterlijk
REFRESH-INTERVAL;VALUE=DURATION:PT1H
X-Robots-Tag:noindex
X-PUBLISHED-TTL:PT1H
BEGIN:VTIMEZONE
TZID:UTC
BEGIN:STANDARD
TZOFFSETFROM:+0000
TZOFFSETTO:+0000
TZNAME:UTC
DTSTART:20230101T000000
END:STANDARD
END:VTIMEZONE
BEGIN:VEVENT
DTSTART;TZID=UTC:20240912T190000
DTEND;TZID=UTC:20240912T220000
DTSTAMP:20260421T170633
CREATED:20240906T184842Z
LAST-MODIFIED:20240906T185147Z
UID:5069-1726167600-1726178400@svmeesterlijk.nl
SUMMARY:🧡🧑‍💻Maak kennis met een… BESTUURSJAAR🧑‍💻🧡
DESCRIPTION:🧡🧑‍💻Maak kennis met een… BESTUURSJAAR🧑‍💻🧡 \nBen jij nieuwsgierig naar een functie binnen bestuur X?🤩 Zit jij vol met vragen en wil jij meer te weten komen over de verschillende functies?🧐 Kom dan op 12 september naar de bestuursinteresse borrel!🫵🏼 \n📅 Donderdag 12 september\n📍 Brasserie Jan\, Grote Markt 32\, 6511 KB Nijmegen\n🕖 19:00 uur \nStel al je vragen onder het genot van een borrel met leuke acties!🍻Meld je snel aan via de site!👇 \nZien wij jullie daar?😄 \nLiefs\,\nMeesterlijk🧡
URL:https://svmeesterlijk.nl/evenement/%f0%9f%a7%a1%f0%9f%a7%91%f0%9f%92%bbmaak-kennis-met-een-bestuursjaar%f0%9f%a7%91%f0%9f%92%bb%f0%9f%a7%a1/
LOCATION:Brasserie Jan\, Grote Markt 32\, Nijmegen\, Gelderland\, 6511 KB\, Nederland
END:VEVENT
END:VCALENDAR