BEGIN:VCALENDAR
VERSION:2.0
PRODID:-//SV Meesterlijk - ECPv6.15.15//NONSGML v1.0//EN
CALSCALE:GREGORIAN
METHOD:PUBLISH
X-ORIGINAL-URL:https://svmeesterlijk.nl
X-WR-CALDESC:Evenementen voor SV Meesterlijk
REFRESH-INTERVAL;VALUE=DURATION:PT1H
X-Robots-Tag:noindex
X-PUBLISHED-TTL:PT1H
BEGIN:VTIMEZONE
TZID:UTC
BEGIN:STANDARD
TZOFFSETFROM:+0000
TZOFFSETTO:+0000
TZNAME:UTC
DTSTART:20230101T000000
END:STANDARD
END:VTIMEZONE
BEGIN:VEVENT
DTSTART;VALUE=DATE:20240628
DTEND;VALUE=DATE:20240702
DTSTAMP:20260421T194143
CREATED:20240524T131211Z
LAST-MODIFIED:20240617T193216Z
UID:4857-1719532800-1719878399@svmeesterlijk.nl
SUMMARY:🇩🇪🚌 BACK TO BERLIN II 🚌🇩🇪
DESCRIPTION:🇩🇪🚌 BACK TO BERLIN II 🚌🇩🇪 \nStaan jouw koffers al klaar?🧳 En wacht jij al maanden tot het tijd is voor onze jaarlijkse studiereis?😄 Dan hebben wij goed nieuws!🎉 \n📅 Vrijdag 28 juni t/m maandag 1 juli\n📍Vertrek vanaf Nijmegen centraal\n🕛 Verzamelen 00:00u\, vertrek 00:30u\n(Vanaf 23:00u staan wij klaar om jullie op te vangen mocht jouw laatste bus/trein voor 00:00u aankomen op centraal.)\n💵 *€300\,- (Tot 1 juni de mogelijkheid om in termijnen te betalen!) \nPak je koffers en pak je tas\, meld je aan via de site en geniet samen met ons van een gezellige reis!🤩 \nZien wij jullie daar?😄 \nLiefs\,\nMeesterlijk🧡 \n*Wat zit er bij de prijs inbegrepen?\n– Busreis\n– ⁠Hostel overnachting\n– ⁠Alle activiteiten\n– ⁠Ontbijt in
URL:https://svmeesterlijk.nl/evenement/%f0%9f%87%a9%f0%9f%87%aa%f0%9f%9a%8c-back-to-berlin-ii-%f0%9f%9a%8c%f0%9f%87%a9%f0%9f%87%aa/
LOCATION:Berlijn\, Berlijn\, Duitsland
END:VEVENT
END:VCALENDAR