BEGIN:VCALENDAR
VERSION:2.0
PRODID:-//SV Meesterlijk - ECPv6.15.15//NONSGML v1.0//EN
CALSCALE:GREGORIAN
METHOD:PUBLISH
X-ORIGINAL-URL:https://svmeesterlijk.nl
X-WR-CALDESC:Evenementen voor SV Meesterlijk
REFRESH-INTERVAL;VALUE=DURATION:PT1H
X-Robots-Tag:noindex
X-PUBLISHED-TTL:PT1H
BEGIN:VTIMEZONE
TZID:UTC
BEGIN:STANDARD
TZOFFSETFROM:+0000
TZOFFSETTO:+0000
TZNAME:UTC
DTSTART:20230101T000000
END:STANDARD
END:VTIMEZONE
BEGIN:VEVENT
DTSTART;TZID=UTC:20240605T183000
DTEND;TZID=UTC:20240605T210000
DTSTAMP:20260421T194229
CREATED:20240527T090955Z
LAST-MODIFIED:20240604T190216Z
UID:4914-1717612200-1717621200@svmeesterlijk.nl
SUMMARY:⛓‍💥⏳PRISON ISLAND⏳⛓‍💥
DESCRIPTION:⛓‍💥⏳PRISON ISLAND⏳⛓‍💥 \nDenk jij te kunnen ontsnappen uit een gevangenis vol uitdagende challenges?🏢 En ben jij klaar om je hersens te laten kraken in deze race tegen de klok?⏰ Kom dan op 5 juni met ons mee naar Prison Island!🫵🏼 \n📅 Woensdag 5 juni\n📍 Olround\, Heyendaalseweg 90\, 6525 AK Nijmegen\n🕡 Inloop 18:30u\, Prison Island 19:00u – 21:00u\n💵 Leden €2\,50\, Niet leden €7\,50 \n‼IEDEREEN WELKOM‼ \nDurf jij de uitdaging aan?☠ Meld je snel aan via de site!👇 \nZien wij jullie daar?😄 \nLiefs\,\nMeesterlijk🧡
URL:https://svmeesterlijk.nl/evenement/%e2%9b%93%f0%9f%92%a5%e2%8f%b3prison-island%e2%8f%b3%e2%9b%93%f0%9f%92%a5/
LOCATION:Olround\, Heyendaalseweg 90-92\, Nijmegen\, Gelderland\, 6525 AK\, Nederland
END:VEVENT
END:VCALENDAR