BEGIN:VCALENDAR
VERSION:2.0
PRODID:-//SV Meesterlijk - ECPv6.15.15//NONSGML v1.0//EN
CALSCALE:GREGORIAN
METHOD:PUBLISH
X-WR-CALNAME:SV Meesterlijk
X-ORIGINAL-URL:https://svmeesterlijk.nl
X-WR-CALDESC:Evenementen voor SV Meesterlijk
REFRESH-INTERVAL;VALUE=DURATION:PT1H
X-Robots-Tag:noindex
X-PUBLISHED-TTL:PT1H
BEGIN:VTIMEZONE
TZID:UTC
BEGIN:STANDARD
TZOFFSETFROM:+0000
TZOFFSETTO:+0000
TZNAME:UTC
DTSTART:20230101T000000
END:STANDARD
END:VTIMEZONE
BEGIN:VEVENT
DTSTART;TZID=UTC:20240531T040000
DTEND;TZID=UTC:20240531T190000
DTSTAMP:20260421T194151
CREATED:20240519T183212Z
LAST-MODIFIED:20240531T121407Z
UID:4814-1717128000-1717182000@svmeesterlijk.nl
SUMMARY:📱👩‍🏫KROEGCOLLEGE JUF PLEUN👩‍🏫📱
DESCRIPTION:📱👩‍🏫KROEGCOLLEGE JUF PLEUN👩‍🏫📱 \nStaat jouw TikTok pagina ook vol met de muzikale video’s van Juf Pleun?🎵 Ben jij benieuwd naar haar ervaringen als muzikale (kleuter)leerkracht?🏫 Kom dan op vrijdag 31 mei naar het kroegcollege!🫵🏼 \n📅 Vrijdag 31 mei\n📍 Tappers\, Van Welderenstraat 128\, 6511 MV Nijmegen\n🕓 Inloop 16:00u\, Kroegcollege 16:30 – 19:00 uur\n💵 Leden €4\, Niet leden €10\n(Inclusief pizza + twee drankjes!😋) \n‼Ook in te zetten voor 1/3 van je vrije masterclass!‼ \nMeld je snel aan via onze site!👇 \nZien wij jullie daar?😄 \nLiefs\,\nMeesterlijk🧡
URL:https://svmeesterlijk.nl/evenement/%f0%9f%93%b1%f0%9f%91%a9%f0%9f%8f%abkroegcollege-juf-pleun%f0%9f%91%a9%f0%9f%8f%ab%f0%9f%93%b1/
LOCATION:Tappers
END:VEVENT
END:VCALENDAR