BEGIN:VCALENDAR
VERSION:2.0
PRODID:-//SV Meesterlijk - ECPv6.15.15//NONSGML v1.0//EN
CALSCALE:GREGORIAN
METHOD:PUBLISH
X-ORIGINAL-URL:https://svmeesterlijk.nl
X-WR-CALDESC:Evenementen voor SV Meesterlijk
REFRESH-INTERVAL;VALUE=DURATION:PT1H
X-Robots-Tag:noindex
X-PUBLISHED-TTL:PT1H
BEGIN:VTIMEZONE
TZID:UTC
BEGIN:STANDARD
TZOFFSETFROM:+0000
TZOFFSETTO:+0000
TZNAME:UTC
DTSTART:20230101T000000
END:STANDARD
END:VTIMEZONE
BEGIN:VEVENT
DTSTART;TZID=UTC:20240517T030000
DTEND;TZID=UTC:20240517T220000
DTSTAMP:20260421T210748
CREATED:20240408T155709Z
LAST-MODIFIED:20240429T131513Z
UID:4484-1715914800-1715983200@svmeesterlijk.nl
SUMMARY:🎥📺 OPNAMES SOPHIE & JEROEN 📺🎥
DESCRIPTION:🎥📺 OPNAMES SOPHIE & JEROEN 📺🎥 \nWil jij meer weten over de fascinerende mediawereld?🎞 Ben jij benieuwd hoe het er achter de schermen aan toe gaat bij de producties van Sophie en Jeroen?📽 \n📅 Vrijdag 17 mei 2024\n📍 Mediapark Hilversum\, Studio 3\n🕒 15:00u vertrek vanaf Nijmegen CS\, 18:00u start opnames\n💵 GRATIS! \nMeld je snel aan via de onderstaande link!👇 En woon samen met ons de opnames bij\, krijg een rondleiding door het Beeld en geluid museum en geniet van een leuke korting\, tijdens de gezellige borrel achteraf!🥳 \n‼OOK IN TE ZETTEN ALS 1/3 VAN JE VRIJE MASTERCLASS‼ \nZien wij jullie dan?😄 \nLiefs\,\nMeesterlijk🧡
URL:https://svmeesterlijk.nl/evenement/%f0%9f%8e%a5%f0%9f%93%ba-opnames-sophie-jeroen-%f0%9f%93%ba%f0%9f%8e%a5/
LOCATION:Studio 3\, Media Parkboulevard 11\, Hilversum\, Noord Holland\, 1217 WE\, Nederland
END:VEVENT
END:VCALENDAR